BEGIN:VCALENDAR
VERSION:2.0
PRODID:-// - ECPv6.6.0.2//NONSGML v1.0//EN
CALSCALE:GREGORIAN
METHOD:PUBLISH
X-ORIGINAL-URL:https://diosachia.edu.co
X-WR-CALDESC:Eventos para 
REFRESH-INTERVAL;VALUE=DURATION:PT1H
X-Robots-Tag:noindex
X-PUBLISHED-TTL:PT1H
BEGIN:VTIMEZONE
TZID:America/Bogota
BEGIN:STANDARD
TZOFFSETFROM:-0500
TZOFFSETTO:-0500
TZNAME:-05
DTSTART:20240101T000000
END:STANDARD
END:VTIMEZONE
BEGIN:VEVENT
DTSTART;TZID=America/Bogota:20240305T080000
DTEND;TZID=America/Bogota:20240305T170000
DTSTAMP:20260421T153439
CREATED:20240805T192546Z
LAST-MODIFIED:20240805T192546Z
UID:3166-1709625600-1709658000@diosachia.edu.co
SUMMARY:Jornada electoral
DESCRIPTION:Jornada electoral: elección del personero y contralor\nestudiantil\, representantes al consejo estudiantil.
URL:https://diosachia.edu.co/event/jornada-electoral/
LOCATION:Institución Educativa Diosa Chía\, Calle  29 Nro 10 - 49 Vereda  Bojacá. Chía - Cundinamarca.\, Chía\, Colombia
CATEGORIES:Elecciones
END:VEVENT
END:VCALENDAR