BEGIN:VCALENDAR
VERSION:2.0
PRODID:-// - ECPv6.6.0.2//NONSGML v1.0//EN
CALSCALE:GREGORIAN
METHOD:PUBLISH
X-ORIGINAL-URL:https://diosachia.edu.co
X-WR-CALDESC:Eventos para 
REFRESH-INTERVAL;VALUE=DURATION:PT1H
X-Robots-Tag:noindex
X-PUBLISHED-TTL:PT1H
BEGIN:VTIMEZONE
TZID:America/Bogota
BEGIN:STANDARD
TZOFFSETFROM:-0500
TZOFFSETTO:-0500
TZNAME:-05
DTSTART:20240101T000000
END:STANDARD
END:VTIMEZONE
BEGIN:VEVENT
DTSTART;TZID=America/Bogota:20240321T063000
DTEND;TZID=America/Bogota:20240321T073000
DTSTAMP:20260421T153524
CREATED:20240805T190850Z
LAST-MODIFIED:20240805T190850Z
UID:3158-1711002600-1711006200@diosachia.edu.co
SUMMARY:Dirección de Curso
DESCRIPTION:Dirección de curso (60 minutos) 6:30 am. A 7:30 a.m.\nHorario con horas de 50 minutos:
URL:https://diosachia.edu.co/event/direccion-de-curso-3/
LOCATION:Institución Educativa Diosa Chía\, Calle  29 Nro 10 - 49 Vereda  Bojacá. Chía - Cundinamarca.\, Chía\, Colombia
END:VEVENT
BEGIN:VEVENT
DTSTART;TZID=America/Bogota:20240321T063000
DTEND;TZID=America/Bogota:20240321T080000
DTSTAMP:20260421T153524
CREATED:20240805T172705Z
LAST-MODIFIED:20240805T172705Z
UID:3142-1711002600-1711008000@diosachia.edu.co
SUMMARY:Consejo Directivo
DESCRIPTION:
URL:https://diosachia.edu.co/event/consejo-directivo-2/
LOCATION:Institución Educativa Diosa Chía\, Calle  29 Nro 10 - 49 Vereda  Bojacá. Chía - Cundinamarca.\, Chía\, Colombia
END:VEVENT
BEGIN:VEVENT
DTSTART;TZID=America/Bogota:20240321T080000
DTEND;TZID=America/Bogota:20240321T170000
DTSTAMP:20260421T153524
CREATED:20240805T200038Z
LAST-MODIFIED:20240805T200038Z
UID:3170-1711008000-1711040400@diosachia.edu.co
SUMMARY:Corte para analizar el rendimiento académico Primer Período
DESCRIPTION:
URL:https://diosachia.edu.co/event/corte-para-analizar-el-rendimiento-academico-primer-periodo/
LOCATION:Institución Educativa Diosa Chía\, Calle  29 Nro 10 - 49 Vereda  Bojacá. Chía - Cundinamarca.\, Chía\, Colombia
END:VEVENT
END:VCALENDAR