BEGIN:VCALENDAR
VERSION:2.0
PRODID:-// - ECPv6.6.0.2//NONSGML v1.0//EN
CALSCALE:GREGORIAN
METHOD:PUBLISH
X-ORIGINAL-URL:https://diosachia.edu.co
X-WR-CALDESC:Eventos para 
REFRESH-INTERVAL;VALUE=DURATION:PT1H
X-Robots-Tag:noindex
X-PUBLISHED-TTL:PT1H
BEGIN:VTIMEZONE
TZID:America/Bogota
BEGIN:STANDARD
TZOFFSETFROM:-0500
TZOFFSETTO:-0500
TZNAME:-05
DTSTART:20240101T000000
END:STANDARD
END:VTIMEZONE
BEGIN:VEVENT
DTSTART;TZID=America/Bogota:20240617T123000
DTEND;TZID=America/Bogota:20240617T143000
DTSTAMP:20260421T110552
CREATED:20240806T143430Z
LAST-MODIFIED:20240806T143430Z
UID:3205-1718627400-1718634600@diosachia.edu.co
SUMMARY:Comité de Convivencia
DESCRIPTION:Primer Lunes de cada mes de 12:30 m a 2:30 pm.
URL:https://diosachia.edu.co/event/comite-de-convivencia-7/
LOCATION:Institución Educativa Diosa Chía\, Calle  29 Nro 10 - 49 Vereda  Bojacá. Chía - Cundinamarca.\, Chía\, Colombia
CATEGORIES:Comité
END:VEVENT
END:VCALENDAR