BEGIN:VCALENDAR
VERSION:2.0
PRODID:-// - ECPv6.6.0.2//NONSGML v1.0//EN
CALSCALE:GREGORIAN
METHOD:PUBLISH
X-ORIGINAL-URL:https://diosachia.edu.co
X-WR-CALDESC:Eventos para 
REFRESH-INTERVAL;VALUE=DURATION:PT1H
X-Robots-Tag:noindex
X-PUBLISHED-TTL:PT1H
BEGIN:VTIMEZONE
TZID:America/Bogota
BEGIN:STANDARD
TZOFFSETFROM:-0500
TZOFFSETTO:-0500
TZNAME:-05
DTSTART:20240101T000000
END:STANDARD
END:VTIMEZONE
BEGIN:VEVENT
DTSTART;TZID=America/Bogota:20240429T080000
DTEND;TZID=America/Bogota:20240503T170000
DTSTAMP:20260425T151027
CREATED:20240805T222822Z
LAST-MODIFIED:20240805T222822Z
UID:3173-1714377600-1714755600@diosachia.edu.co
SUMMARY:Evaluaciones y Planes de Mejoramiento Primer Periodo.
DESCRIPTION:
URL:https://diosachia.edu.co/event/evaluaciones-y-planes-de-mejoramiento-primer-periodo/
LOCATION:Institución Educativa Diosa Chía\, Calle  29 Nro 10 - 49 Vereda  Bojacá. Chía - Cundinamarca.\, Chía\, Colombia
END:VEVENT
BEGIN:VEVENT
DTSTART;TZID=America/Bogota:20240507T080000
DTEND;TZID=America/Bogota:20240508T170000
DTSTAMP:20260425T151027
CREATED:20240806T132712Z
LAST-MODIFIED:20240806T132712Z
UID:3175-1715068800-1715187600@diosachia.edu.co
SUMMARY:Comité de evaluación y promoción.
DESCRIPTION:
URL:https://diosachia.edu.co/event/comite-de-evaluacion-y-promocion/
LOCATION:Institución Educativa Diosa Chía\, Calle  29 Nro 10 - 49 Vereda  Bojacá. Chía - Cundinamarca.\, Chía\, Colombia
CATEGORIES:Comité
END:VEVENT
BEGIN:VEVENT
DTSTART;TZID=America/Bogota:20240509T080000
DTEND;TZID=America/Bogota:20240510T170000
DTSTAMP:20260425T151027
CREATED:20240806T133151Z
LAST-MODIFIED:20240806T133151Z
UID:3178-1715241600-1715360400@diosachia.edu.co
SUMMARY:Ingreso de notas al sistema Periodo 1.
DESCRIPTION:Ingreso de notas al sistema y cierre de plataforma Syscolegios.
URL:https://diosachia.edu.co/event/ingreso-de-notas-al-sistema-periodo-1/
END:VEVENT
BEGIN:VEVENT
DTSTART;TZID=America/Bogota:20240510T080000
DTEND;TZID=America/Bogota:20240510T170000
DTSTAMP:20260425T151027
CREATED:20240806T133254Z
LAST-MODIFIED:20240806T133254Z
UID:3180-1715328000-1715360400@diosachia.edu.co
SUMMARY:Cierre plataforma Syscolegios
DESCRIPTION:
URL:https://diosachia.edu.co/event/cierre-plataforma-syscolegios/
END:VEVENT
BEGIN:VEVENT
DTSTART;TZID=America/Bogota:20240514T063000
DTEND;TZID=America/Bogota:20240514T160000
DTSTAMP:20260425T151027
CREATED:20240806T133953Z
LAST-MODIFIED:20240806T133953Z
UID:3183-1715668200-1715702400@diosachia.edu.co
SUMMARY:Generación de boletines Periodo 1
DESCRIPTION:
URL:https://diosachia.edu.co/event/generacion-de-boletines-periodo-1/
END:VEVENT
BEGIN:VEVENT
DTSTART;TZID=America/Bogota:20240522T063000
DTEND;TZID=America/Bogota:20240522T163000
DTSTAMP:20260425T151027
CREATED:20240806T134159Z
LAST-MODIFIED:20240806T134159Z
UID:3185-1716359400-1716395400@diosachia.edu.co
SUMMARY:Asamblea de padres de familia entrega informes Primer Período
DESCRIPTION:
URL:https://diosachia.edu.co/event/asamblea-de-padres-de-familia-entrega-informes-primer-periodo/
LOCATION:Institución Educativa Diosa Chía\, Calle  29 Nro 10 - 49 Vereda  Bojacá. Chía - Cundinamarca.\, Chía\, Colombia
CATEGORIES:Reunión Padres Familia
END:VEVENT
END:VCALENDAR