BEGIN:VCALENDAR
VERSION:2.0
PRODID:-// - ECPv6.6.0.2//NONSGML v1.0//EN
CALSCALE:GREGORIAN
METHOD:PUBLISH
X-ORIGINAL-URL:https://diosachia.edu.co
X-WR-CALDESC:Eventos para 
REFRESH-INTERVAL;VALUE=DURATION:PT1H
X-Robots-Tag:noindex
X-PUBLISHED-TTL:PT1H
BEGIN:VTIMEZONE
TZID:America/Bogota
BEGIN:STANDARD
TZOFFSETFROM:-0500
TZOFFSETTO:-0500
TZNAME:-05
DTSTART:20240101T000000
END:STANDARD
END:VTIMEZONE
BEGIN:VEVENT
DTSTART;TZID=America/Bogota:20240718T083000
DTEND;TZID=America/Bogota:20240718T100000
DTSTAMP:20260421T171415
CREATED:20240805T160925Z
LAST-MODIFIED:20240805T160925Z
UID:3105-1721291400-1721296800@diosachia.edu.co
SUMMARY:DIA PATRIO - INDEPENDENCIA AFROCOLOMBIANIDAD
DESCRIPTION:Valor: Identidad y Patriotismo.
URL:https://diosachia.edu.co/event/dia-patrio-independencia-afrocolombianidad/
LOCATION:Institución Educativa Diosa Chía\, Calle  29 Nro 10 - 49 Vereda  Bojacá. Chía - Cundinamarca.\, Chía\, Colombia
CATEGORIES:Actividad Institucional
END:VEVENT
BEGIN:VEVENT
DTSTART;TZID=America/Bogota:20240722T123000
DTEND;TZID=America/Bogota:20240722T143000
DTSTAMP:20260421T171415
CREATED:20240806T143613Z
LAST-MODIFIED:20240806T143613Z
UID:3207-1721651400-1721658600@diosachia.edu.co
SUMMARY:Comité de Convivencia
DESCRIPTION:
URL:https://diosachia.edu.co/event/comite-de-convivencia-2/
LOCATION:Institución Educativa Diosa Chía\, Calle  29 Nro 10 - 49 Vereda  Bojacá. Chía - Cundinamarca.\, Chía\, Colombia
CATEGORIES:Comité
END:VEVENT
BEGIN:VEVENT
DTSTART;TZID=America/Bogota:20240724T070000
DTEND;TZID=America/Bogota:20240724T143000
DTSTAMP:20260421T171415
CREATED:20240806T141753Z
LAST-MODIFIED:20240806T141753Z
UID:3199-1721804400-1721831400@diosachia.edu.co
SUMMARY:Consejo Directivo
DESCRIPTION:
URL:https://diosachia.edu.co/event/consejo-directivo-6/
LOCATION:Institución Educativa Diosa Chía\, Calle  29 Nro 10 - 49 Vereda  Bojacá. Chía - Cundinamarca.\, Chía\, Colombia
END:VEVENT
BEGIN:VEVENT
DTSTART;TZID=America/Bogota:20240729T070000
DTEND;TZID=America/Bogota:20240729T090000
DTSTAMP:20260421T171415
CREATED:20240806T140315Z
LAST-MODIFIED:20240806T140315Z
UID:3191-1722236400-1722243600@diosachia.edu.co
SUMMARY:Consejo Académico
DESCRIPTION:Consejo Académico teniendo en cuenta horario extendido según Decreto 1850 de 2002.
URL:https://diosachia.edu.co/event/consejo-academico-3/
LOCATION:Institución Educativa Diosa Chía\, Calle  29 Nro 10 - 49 Vereda  Bojacá. Chía - Cundinamarca.\, Chía\, Colombia
END:VEVENT
BEGIN:VEVENT
DTSTART;TZID=America/Bogota:20240730T063000
DTEND;TZID=America/Bogota:20240730T073000
DTSTAMP:20260421T171415
CREATED:20240806T145018Z
LAST-MODIFIED:20240806T145018Z
UID:3217-1722321000-1722324600@diosachia.edu.co
SUMMARY:Dirección de Curso
DESCRIPTION:Dirección de Grupo (60 minutos) 6:30 am. \nHorario con horas de 50 minutos
URL:https://diosachia.edu.co/event/direccion-de-curso-6/
LOCATION:Institución Educativa Diosa Chía\, Calle  29 Nro 10 - 49 Vereda  Bojacá. Chía - Cundinamarca.\, Chía\, Colombia
END:VEVENT
BEGIN:VEVENT
DTSTART;TZID=America/Bogota:20240812T123000
DTEND;TZID=America/Bogota:20240812T143000
DTSTAMP:20260421T171415
CREATED:20240806T143818Z
LAST-MODIFIED:20240806T143818Z
UID:3209-1723465800-1723473000@diosachia.edu.co
SUMMARY:Comité de Convivencia
DESCRIPTION:Primer Lunes de cada mes de 12:30 m a 2:30 pm.
URL:https://diosachia.edu.co/event/comite-de-convivencia-3/
LOCATION:Institución Educativa Diosa Chía\, Calle  29 Nro 10 - 49 Vereda  Bojacá. Chía - Cundinamarca.\, Chía\, Colombia
CATEGORIES:Comité
END:VEVENT
BEGIN:VEVENT
DTSTART;TZID=America/Bogota:20240820T063000
DTEND;TZID=America/Bogota:20240821T170000
DTSTAMP:20260421T171415
CREATED:20240806T150021Z
LAST-MODIFIED:20240806T150021Z
UID:3223-1724135400-1724259600@diosachia.edu.co
SUMMARY:Comité de evaluación y promoción
DESCRIPTION:
URL:https://diosachia.edu.co/event/comite-de-evaluacion-y-promocion-2/
LOCATION:Institución Educativa Diosa Chía\, Calle  29 Nro 10 - 49 Vereda  Bojacá. Chía - Cundinamarca.\, Chía\, Colombia
CATEGORIES:Comité
END:VEVENT
BEGIN:VEVENT
DTSTART;TZID=America/Bogota:20240821T063000
DTEND;TZID=America/Bogota:20240821T073000
DTSTAMP:20260421T171415
CREATED:20240806T145642Z
LAST-MODIFIED:20240806T145642Z
UID:3219-1724221800-1724225400@diosachia.edu.co
SUMMARY:Dirección de Curso
DESCRIPTION:Dirección de Grupo (60 minutos) 6:30 am. \nHorario con horas de 50 minutos.
URL:https://diosachia.edu.co/event/direccion-de-curso-7/
LOCATION:Institución Educativa Diosa Chía\, Calle  29 Nro 10 - 49 Vereda  Bojacá. Chía - Cundinamarca.\, Chía\, Colombia
END:VEVENT
BEGIN:VEVENT
DTSTART;TZID=America/Bogota:20240821T063000
DTEND;TZID=America/Bogota:20240821T143000
DTSTAMP:20260421T171415
CREATED:20240806T141910Z
LAST-MODIFIED:20240806T141910Z
UID:3201-1724221800-1724250600@diosachia.edu.co
SUMMARY:Consejo Directivo
DESCRIPTION:
URL:https://diosachia.edu.co/event/consejo-directivo-7/
LOCATION:Institución Educativa Diosa Chía\, Calle  29 Nro 10 - 49 Vereda  Bojacá. Chía - Cundinamarca.\, Chía\, Colombia
END:VEVENT
BEGIN:VEVENT
DTSTART;TZID=America/Bogota:20240821T063000
DTEND;TZID=America/Bogota:20240823T170000
DTSTAMP:20260421T171415
CREATED:20240806T150408Z
LAST-MODIFIED:20240806T150408Z
UID:3225-1724221800-1724432400@diosachia.edu.co
SUMMARY:Planes de mejoramiento Segundo Periodo
DESCRIPTION:
URL:https://diosachia.edu.co/event/planes-de-mejoramiento-segundo-periodo/
LOCATION:Institución Educativa Diosa Chía\, Calle  29 Nro 10 - 49 Vereda  Bojacá. Chía - Cundinamarca.\, Chía\, Colombia
END:VEVENT
BEGIN:VEVENT
DTSTART;TZID=America/Bogota:20240822T080000
DTEND;TZID=America/Bogota:20240823T170000
DTSTAMP:20260421T171415
CREATED:20240806T155446Z
LAST-MODIFIED:20240806T155446Z
UID:3227-1724313600-1724432400@diosachia.edu.co
SUMMARY:Ingreso de notas al sistema y cierre de plataforma Syscolegios
DESCRIPTION:Ingreso de notas al sistema y cierre de plataforma Syscolegios agosto 23.
URL:https://diosachia.edu.co/event/ingreso-de-notas-al-sistema-y-cierre-de-plataforma-syscolegios/
LOCATION:Institución Educativa Diosa Chía\, Calle  29 Nro 10 - 49 Vereda  Bojacá. Chía - Cundinamarca.\, Chía\, Colombia
END:VEVENT
BEGIN:VEVENT
DTSTART;TZID=America/Bogota:20240826T123000
DTEND;TZID=America/Bogota:20240826T143000
DTSTAMP:20260421T171415
CREATED:20240806T163045Z
LAST-MODIFIED:20240806T163045Z
UID:3233-1724675400-1724682600@diosachia.edu.co
SUMMARY:Consejo Académico
DESCRIPTION:Consejo Académico teniendo en cuenta horario extendido según Decreto 1850 de 2002.
URL:https://diosachia.edu.co/event/consejo-academico-4/
LOCATION:Institución Educativa Diosa Chía\, Calle  29 Nro 10 - 49 Vereda  Bojacá. Chía - Cundinamarca.\, Chía\, Colombia
END:VEVENT
BEGIN:VEVENT
DTSTART;TZID=America/Bogota:20240827T063000
DTEND;TZID=America/Bogota:20240827T170000
DTSTAMP:20260421T171415
CREATED:20240806T155535Z
LAST-MODIFIED:20240806T155535Z
UID:3229-1724740200-1724778000@diosachia.edu.co
SUMMARY:Generación de boletines
DESCRIPTION:
URL:https://diosachia.edu.co/event/generacion-de-boletines/
LOCATION:Institución Educativa Diosa Chía\, Calle  29 Nro 10 - 49 Vereda  Bojacá. Chía - Cundinamarca.\, Chía\, Colombia
END:VEVENT
BEGIN:VEVENT
DTSTART;TZID=America/Bogota:20240827T063000
DTEND;TZID=America/Bogota:20240827T170000
DTSTAMP:20260421T171415
CREATED:20240806T171209Z
LAST-MODIFIED:20240806T171209Z
UID:3255-1724740200-1724778000@diosachia.edu.co
SUMMARY:Jornada Pedagógica
DESCRIPTION:
URL:https://diosachia.edu.co/event/jornada-pedagogica-3/
LOCATION:Institución Educativa Diosa Chía\, Calle  29 Nro 10 - 49 Vereda  Bojacá. Chía - Cundinamarca.\, Chía\, Colombia
END:VEVENT
BEGIN:VEVENT
DTSTART;TZID=America/Bogota:20240830T063000
DTEND;TZID=America/Bogota:20240830T083000
DTSTAMP:20260421T171415
CREATED:20240806T155702Z
LAST-MODIFIED:20240806T155719Z
UID:3231-1724999400-1725006600@diosachia.edu.co
SUMMARY:Asamblea de padres de familia entrega informes Segundo Período
DESCRIPTION:
URL:https://diosachia.edu.co/event/asamblea-de-padres-de-familia-entrega-informes-segundo-periodo/
LOCATION:Institución Educativa Diosa Chía\, Calle  29 Nro 10 - 49 Vereda  Bojacá. Chía - Cundinamarca.\, Chía\, Colombia
CATEGORIES:Reunión Padres Familia
END:VEVENT
BEGIN:VEVENT
DTSTART;TZID=America/Bogota:20240902T123000
DTEND;TZID=America/Bogota:20240902T143000
DTSTAMP:20260421T171415
CREATED:20240806T165834Z
LAST-MODIFIED:20240806T165834Z
UID:3242-1725280200-1725287400@diosachia.edu.co
SUMMARY:Comité de Convivencia
DESCRIPTION:Comité de Convivencia teniendo en cuenta horario extendido según Decreto 1850 de 2002.
URL:https://diosachia.edu.co/event/comite-de-convivencia-4/
LOCATION:Institución Educativa Diosa Chía\, Calle  29 Nro 10 - 49 Vereda  Bojacá. Chía - Cundinamarca.\, Chía\, Colombia
CATEGORIES:Comité
END:VEVENT
BEGIN:VEVENT
DTSTART;TZID=America/Bogota:20240904T083000
DTEND;TZID=America/Bogota:20240904T103000
DTSTAMP:20260421T171415
CREATED:20240806T170702Z
LAST-MODIFIED:20240806T170702Z
UID:3248-1725438600-1725445800@diosachia.edu.co
SUMMARY:Consejo Directivo
DESCRIPTION:
URL:https://diosachia.edu.co/event/consejo-directivo-8/
LOCATION:Institución Educativa Diosa Chía\, Calle  29 Nro 10 - 49 Vereda  Bojacá. Chía - Cundinamarca.\, Chía\, Colombia
END:VEVENT
BEGIN:VEVENT
DTSTART;TZID=America/Bogota:20240910T063000
DTEND;TZID=America/Bogota:20240910T073000
DTSTAMP:20260421T171415
CREATED:20240806T172233Z
LAST-MODIFIED:20240806T172233Z
UID:3261-1725949800-1725953400@diosachia.edu.co
SUMMARY:Dirección de Grupo
DESCRIPTION:Dirección de Grupo (60 minutos) 6:30 am. Horario con horas de 50 minutos.
URL:https://diosachia.edu.co/event/direccion-de-grupo-2/
LOCATION:Institución Educativa Diosa Chía\, Calle  29 Nro 10 - 49 Vereda  Bojacá. Chía - Cundinamarca.\, Chía\, Colombia
END:VEVENT
BEGIN:VEVENT
DTSTART;TZID=America/Bogota:20240919T080000
DTEND;TZID=America/Bogota:20240919T090000
DTSTAMP:20260421T171415
CREATED:20240805T205258Z
LAST-MODIFIED:20240805T145144Z
UID:3070-1726732800-1726736400@diosachia.edu.co
SUMMARY:DÍA CULTURAL – AMOR Y AMISTAD – ENGLISH DAY
DESCRIPTION:Valor: Solidaridad y Trabajo en Equipo. \nResponsables: DOCENTES COMITÉ CULTURAL
URL:https://diosachia.edu.co/event/dia-cultural-amor-y-amistad-english-day/
LOCATION:Institución Educativa Diosa Chía\, Calle  29 Nro 10 - 49 Vereda  Bojacá. Chía - Cundinamarca.\, Chía\, Colombia
CATEGORIES:Actividad Institucional
END:VEVENT
BEGIN:VEVENT
DTSTART;TZID=America/Bogota:20240923T063000
DTEND;TZID=America/Bogota:20240923T073000
DTSTAMP:20260421T171415
CREATED:20240806T172413Z
LAST-MODIFIED:20240806T172413Z
UID:3263-1727073000-1727076600@diosachia.edu.co
SUMMARY:Dirección de Grupo
DESCRIPTION:Dirección de Grupo (60 minutos) 6:30 am. Horario con horas de 50 minutos.
URL:https://diosachia.edu.co/event/direccion-de-grupo-3/
LOCATION:Institución Educativa Diosa Chía\, Calle  29 Nro 10 - 49 Vereda  Bojacá. Chía - Cundinamarca.\, Chía\, Colombia
END:VEVENT
BEGIN:VEVENT
DTSTART;VALUE=DATE:20240930
DTEND;VALUE=DATE:20241004
DTSTAMP:20260421T171415
CREATED:20240806T171432Z
LAST-MODIFIED:20240806T171432Z
UID:3257-1727654400-1727999999@diosachia.edu.co
SUMMARY:Corte para analizar rendimiento académico Tercer Periodo
DESCRIPTION:
URL:https://diosachia.edu.co/event/corte-para-analizar-rendimiento-academico-tercer-periodo/
LOCATION:Institución Educativa Diosa Chía\, Calle  29 Nro 10 - 49 Vereda  Bojacá. Chía - Cundinamarca.\, Chía\, Colombia
END:VEVENT
BEGIN:VEVENT
DTSTART;TZID=America/Bogota:20240930T123000
DTEND;TZID=America/Bogota:20240930T143000
DTSTAMP:20260421T171415
CREATED:20240806T163454Z
LAST-MODIFIED:20240806T163454Z
UID:3236-1727699400-1727706600@diosachia.edu.co
SUMMARY:Consejo Académico
DESCRIPTION:Consejo Académico teniendo en cuenta horario extendido según Decreto 1850 de 2002.
URL:https://diosachia.edu.co/event/consejo-academico-5/
LOCATION:Institución Educativa Diosa Chía\, Calle  29 Nro 10 - 49 Vereda  Bojacá. Chía - Cundinamarca.\, Chía\, Colombia
END:VEVENT
BEGIN:VEVENT
DTSTART;TZID=America/Bogota:20241002T083000
DTEND;TZID=America/Bogota:20241002T103000
DTSTAMP:20260421T171415
CREATED:20240806T170900Z
LAST-MODIFIED:20240806T170900Z
UID:3251-1727857800-1727865000@diosachia.edu.co
SUMMARY:Consejo Directivo
DESCRIPTION:
URL:https://diosachia.edu.co/event/consejo-directivo-9/
LOCATION:Institución Educativa Diosa Chía\, Calle  29 Nro 10 - 49 Vereda  Bojacá. Chía - Cundinamarca.\, Chía\, Colombia
END:VEVENT
BEGIN:VEVENT
DTSTART;TZID=America/Bogota:20241004T063000
DTEND;TZID=America/Bogota:20241004T073000
DTSTAMP:20260421T171415
CREATED:20240806T172706Z
LAST-MODIFIED:20240806T172706Z
UID:3265-1728023400-1728027000@diosachia.edu.co
SUMMARY:Dirección de Grupo
DESCRIPTION:Dirección de Grupo (60 minutos) 6:30 am. Horario con horas de 50 minutos.
URL:https://diosachia.edu.co/event/direccion-de-grupo-4/
LOCATION:Institución Educativa Diosa Chía\, Calle  29 Nro 10 - 49 Vereda  Bojacá. Chía - Cundinamarca.\, Chía\, Colombia
END:VEVENT
BEGIN:VEVENT
DTSTART;TZID=America/Bogota:20241021T123000
DTEND;TZID=America/Bogota:20241021T143000
DTSTAMP:20260421T171415
CREATED:20240806T170114Z
LAST-MODIFIED:20240806T170114Z
UID:3244-1729513800-1729521000@diosachia.edu.co
SUMMARY:Comité de Convivencia
DESCRIPTION:Comité de Convivencia teniendo en cuenta horario extendido según Decreto 1850 de 2002.
URL:https://diosachia.edu.co/event/comite-de-convivencia-5/
LOCATION:Institución Educativa Diosa Chía\, Calle  29 Nro 10 - 49 Vereda  Bojacá. Chía - Cundinamarca.\, Chía\, Colombia
CATEGORIES:Comité
END:VEVENT
BEGIN:VEVENT
DTSTART;TZID=America/Bogota:20241022T063000
DTEND;TZID=America/Bogota:20241022T073000
DTSTAMP:20260421T171415
CREATED:20240806T172952Z
LAST-MODIFIED:20240806T173426Z
UID:3267-1729578600-1729582200@diosachia.edu.co
SUMMARY:Dirección de Grupo
DESCRIPTION:Dirección de Grupo (60 minutos) 6:30 am. Horario con horas de 50 minutos
URL:https://diosachia.edu.co/event/direccion-de-grupo-5/
LOCATION:Institución Educativa Diosa Chía\, Calle  29 Nro 10 - 49 Vereda  Bojacá. Chía - Cundinamarca.\, Chía\, Colombia
END:VEVENT
BEGIN:VEVENT
DTSTART;TZID=America/Bogota:20241028T123000
DTEND;TZID=America/Bogota:20241028T143000
DTSTAMP:20260421T171415
CREATED:20240806T164028Z
LAST-MODIFIED:20240806T164028Z
UID:3238-1730118600-1730125800@diosachia.edu.co
SUMMARY:Consejo Académico
DESCRIPTION:Consejo Académico teniendo en cuenta horario extendido según Decreto 1850 de 2002.
URL:https://diosachia.edu.co/event/consejo-academico-6/
LOCATION:Institución Educativa Diosa Chía\, Calle  29 Nro 10 - 49 Vereda  Bojacá. Chía - Cundinamarca.\, Chía\, Colombia
END:VEVENT
BEGIN:VEVENT
DTSTART;VALUE=DATE:20241031
DTEND;VALUE=DATE:20241101
DTSTAMP:20260421T171415
CREATED:20240805T161414Z
LAST-MODIFIED:20240806T194703Z
UID:3109-1730332800-1730419199@diosachia.edu.co
SUMMARY:DIA ESTUDIANTE
DESCRIPTION:Valor: Reconocimiento
URL:https://diosachia.edu.co/event/dia-estudiante/
LOCATION:Institución Educativa Diosa Chía\, Calle  29 Nro 10 - 49 Vereda  Bojacá. Chía - Cundinamarca.\, Chía\, Colombia
CATEGORIES:Actividad Institucional
END:VEVENT
BEGIN:VEVENT
DTSTART;TZID=America/Bogota:20241101T080000
DTEND;TZID=America/Bogota:20241129T170000
DTSTAMP:20260421T171415
CREATED:20240806T191614Z
LAST-MODIFIED:20240806T191614Z
UID:3293-1730448000-1732899600@diosachia.edu.co
SUMMARY:Evaluación Institucional
DESCRIPTION:Evaluación Institucional\nEstadísticas\nEntrega de inventarios y libros reglamentarios\nEvaluación docentes 1278
URL:https://diosachia.edu.co/event/evaluacion-institucional/
LOCATION:Institución Educativa Diosa Chía\, Calle  29 Nro 10 - 49 Vereda  Bojacá. Chía - Cundinamarca.\, Chía\, Colombia
CATEGORIES:Actividad Institucional
END:VEVENT
BEGIN:VEVENT
DTSTART;TZID=America/Bogota:20241112T083000
DTEND;TZID=America/Bogota:20241113T103000
DTSTAMP:20260421T171415
CREATED:20240806T171811Z
LAST-MODIFIED:20240806T171840Z
UID:3259-1731400200-1731493800@diosachia.edu.co
SUMMARY:Comité de evaluación y promoción
DESCRIPTION:
URL:https://diosachia.edu.co/event/comite-de-evaluacion-y-promocion-3/
LOCATION:Institución Educativa Diosa Chía\, Calle  29 Nro 10 - 49 Vereda  Bojacá. Chía - Cundinamarca.\, Chía\, Colombia
CATEGORIES:Comité
END:VEVENT
END:VCALENDAR