BEGIN:VCALENDAR
VERSION:2.0
PRODID:-// - ECPv6.6.0.2//NONSGML v1.0//EN
CALSCALE:GREGORIAN
METHOD:PUBLISH
X-ORIGINAL-URL:https://diosachia.edu.co
X-WR-CALDESC:Eventos para 
REFRESH-INTERVAL;VALUE=DURATION:PT1H
X-Robots-Tag:noindex
X-PUBLISHED-TTL:PT1H
BEGIN:VTIMEZONE
TZID:America/Bogota
BEGIN:STANDARD
TZOFFSETFROM:-0500
TZOFFSETTO:-0500
TZNAME:-05
DTSTART:20240101T000000
END:STANDARD
END:VTIMEZONE
BEGIN:VEVENT
DTSTART;TZID=America/Bogota:20240226T080000
DTEND;TZID=America/Bogota:20240301T170000
DTSTAMP:20260421T154013
CREATED:20240805T192306Z
LAST-MODIFIED:20240805T192306Z
UID:3164-1708934400-1709312400@diosachia.edu.co
SUMMARY:Campaña y socialización de planes de acción de personero y contralor
DESCRIPTION:
URL:https://diosachia.edu.co/event/campana-y-socializacion-de-planes-de-accion-de-personero-y-contralor/
LOCATION:Institución Educativa Diosa Chía\, Calle  29 Nro 10 - 49 Vereda  Bojacá. Chía - Cundinamarca.\, Chía\, Colombia
CATEGORIES:Elecciones
END:VEVENT
BEGIN:VEVENT
DTSTART;TZID=America/Bogota:20240305T080000
DTEND;TZID=America/Bogota:20240305T170000
DTSTAMP:20260421T154013
CREATED:20240805T192546Z
LAST-MODIFIED:20240805T192546Z
UID:3166-1709625600-1709658000@diosachia.edu.co
SUMMARY:Jornada electoral
DESCRIPTION:Jornada electoral: elección del personero y contralor\nestudiantil\, representantes al consejo estudiantil.
URL:https://diosachia.edu.co/event/jornada-electoral/
LOCATION:Institución Educativa Diosa Chía\, Calle  29 Nro 10 - 49 Vereda  Bojacá. Chía - Cundinamarca.\, Chía\, Colombia
CATEGORIES:Elecciones
END:VEVENT
BEGIN:VEVENT
DTSTART;TZID=America/Bogota:20240306T063000
DTEND;TZID=America/Bogota:20240306T170000
DTSTAMP:20260421T154013
CREATED:20240805T195822Z
LAST-MODIFIED:20240806T133650Z
UID:3168-1709706600-1709744400@diosachia.edu.co
SUMMARY:Posesión del personero y contralor estudiantil y elección de representantes al gobierno escolar.
DESCRIPTION:Posesión del personero y contralor estudiantil\, reunión de delegados de padres de familia y estudiantes para\nelección de representantes al gobierno escolar.
URL:https://diosachia.edu.co/event/posesion-del-personero-y-contralor-estudiantil-y-eleccion-de-representantes-al-gobierno-escolar/
LOCATION:Institución Educativa Diosa Chía\, Calle  29 Nro 10 - 49 Vereda  Bojacá. Chía - Cundinamarca.\, Chía\, Colombia
CATEGORIES:Elecciones
END:VEVENT
BEGIN:VEVENT
DTSTART;TZID=America/Bogota:20240306T080000
DTEND;TZID=America/Bogota:20240306T090000
DTSTAMP:20260421T154013
CREATED:20240803T004957Z
LAST-MODIFIED:20240805T204839Z
UID:3028-1709712000-1709715600@diosachia.edu.co
SUMMARY:POSESIÓN PERSONERO Y DEL GOBIERNO ESCOLAR
DESCRIPTION:Valor: Liderazgo\, Compromiso y Entusiasmo. \nResponsables: Docentes Proyecto Educación para el Ejercicio de los Derechos Humanos (Democracia)
URL:https://diosachia.edu.co/event/posesion-personero-y-del-gobierno-escolar/
LOCATION:Institución Educativa Diosa Chía\, Calle  29 Nro 10 - 49 Vereda  Bojacá. Chía - Cundinamarca.\, Chía\, Colombia
CATEGORIES:Actividad Institucional
END:VEVENT
BEGIN:VEVENT
DTSTART;TZID=America/Bogota:20240308T080000
DTEND;TZID=America/Bogota:20240308T090000
DTSTAMP:20260421T154013
CREATED:20240805T205223Z
LAST-MODIFIED:20240805T205223Z
UID:3073-1709884800-1709888400@diosachia.edu.co
SUMMARY:DÍA DEL GÉNERO
DESCRIPTION:Valor: Respeto e Igualdad \nResponsables: Docentes Comité día del Genero
URL:https://diosachia.edu.co/event/dia-del-genero/
LOCATION:Institución Educativa Diosa Chía\, Calle  29 Nro 10 - 49 Vereda  Bojacá. Chía - Cundinamarca.\, Chía\, Colombia
CATEGORIES:Actividad Institucional
END:VEVENT
BEGIN:VEVENT
DTSTART;TZID=America/Bogota:20240311T090000
DTEND;TZID=America/Bogota:20240311T100000
DTSTAMP:20260421T154013
CREATED:20240805T153842Z
LAST-MODIFIED:20240805T161116Z
UID:3090-1710147600-1710151200@diosachia.edu.co
SUMMARY:INAUGURACIÓN DE JUEGOS INTERCURSOS
DESCRIPTION:Responsable: Docentes Proyecto tiempo libre.
URL:https://diosachia.edu.co/event/inauguracion-de-juegos-intercursos/
LOCATION:Institución Educativa Diosa Chía\, Calle  29 Nro 10 - 49 Vereda  Bojacá. Chía - Cundinamarca.\, Chía\, Colombia
CATEGORIES:Actividad Institucional
END:VEVENT
BEGIN:VEVENT
DTSTART;TZID=America/Bogota:20240311T123000
DTEND;TZID=America/Bogota:20240311T143000
DTSTAMP:20260421T154013
CREATED:20240805T173916Z
LAST-MODIFIED:20240805T173916Z
UID:3150-1710160200-1710167400@diosachia.edu.co
SUMMARY:Consejo Académico o Comité de Convivencia
DESCRIPTION:Consejo Académico o Comité de Convivencia (decreto 1850)
URL:https://diosachia.edu.co/event/consejo-academico-o-comite-de-convivencia-3/
LOCATION:Institución Educativa Diosa Chía\, Calle  29 Nro 10 - 49 Vereda  Bojacá. Chía - Cundinamarca.\, Chía\, Colombia
CATEGORIES:Comité
END:VEVENT
BEGIN:VEVENT
DTSTART;TZID=America/Bogota:20240320T123000
DTEND;TZID=America/Bogota:20240320T143000
DTSTAMP:20260421T154013
CREATED:20240805T174047Z
LAST-MODIFIED:20240805T174047Z
UID:3152-1710937800-1710945000@diosachia.edu.co
SUMMARY:Consejo Académico o Comité de Convivencia
DESCRIPTION:Consejo Académico o Comité de Convivencia (decreto 1850)
URL:https://diosachia.edu.co/event/consejo-academico-o-comite-de-convivencia-4/
LOCATION:Institución Educativa Diosa Chía\, Calle  29 Nro 10 - 49 Vereda  Bojacá. Chía - Cundinamarca.\, Chía\, Colombia
CATEGORIES:Comité
END:VEVENT
BEGIN:VEVENT
DTSTART;TZID=America/Bogota:20240321T063000
DTEND;TZID=America/Bogota:20240321T073000
DTSTAMP:20260421T154013
CREATED:20240805T190850Z
LAST-MODIFIED:20240805T190850Z
UID:3158-1711002600-1711006200@diosachia.edu.co
SUMMARY:Dirección de Curso
DESCRIPTION:Dirección de curso (60 minutos) 6:30 am. A 7:30 a.m.\nHorario con horas de 50 minutos:
URL:https://diosachia.edu.co/event/direccion-de-curso-3/
LOCATION:Institución Educativa Diosa Chía\, Calle  29 Nro 10 - 49 Vereda  Bojacá. Chía - Cundinamarca.\, Chía\, Colombia
END:VEVENT
BEGIN:VEVENT
DTSTART;TZID=America/Bogota:20240321T063000
DTEND;TZID=America/Bogota:20240321T080000
DTSTAMP:20260421T154013
CREATED:20240805T172705Z
LAST-MODIFIED:20240805T172705Z
UID:3142-1711002600-1711008000@diosachia.edu.co
SUMMARY:Consejo Directivo
DESCRIPTION:
URL:https://diosachia.edu.co/event/consejo-directivo-2/
LOCATION:Institución Educativa Diosa Chía\, Calle  29 Nro 10 - 49 Vereda  Bojacá. Chía - Cundinamarca.\, Chía\, Colombia
END:VEVENT
BEGIN:VEVENT
DTSTART;TZID=America/Bogota:20240321T080000
DTEND;TZID=America/Bogota:20240321T170000
DTSTAMP:20260421T154013
CREATED:20240805T200038Z
LAST-MODIFIED:20240805T200038Z
UID:3170-1711008000-1711040400@diosachia.edu.co
SUMMARY:Corte para analizar el rendimiento académico Primer Período
DESCRIPTION:
URL:https://diosachia.edu.co/event/corte-para-analizar-el-rendimiento-academico-primer-periodo/
LOCATION:Institución Educativa Diosa Chía\, Calle  29 Nro 10 - 49 Vereda  Bojacá. Chía - Cundinamarca.\, Chía\, Colombia
END:VEVENT
BEGIN:VEVENT
DTSTART;TZID=America/Bogota:20240417T080000
DTEND;TZID=America/Bogota:20240417T170000
DTSTAMP:20260421T154013
CREATED:20240805T172937Z
LAST-MODIFIED:20240805T172937Z
UID:3144-1713340800-1713373200@diosachia.edu.co
SUMMARY:Consejo Directivo
DESCRIPTION:
URL:https://diosachia.edu.co/event/consejo-directivo-3/
LOCATION:Institución Educativa Diosa Chía\, Calle  29 Nro 10 - 49 Vereda  Bojacá. Chía - Cundinamarca.\, Chía\, Colombia
END:VEVENT
BEGIN:VEVENT
DTSTART;TZID=America/Bogota:20240418T080000
DTEND;TZID=America/Bogota:20240418T170000
DTSTAMP:20260421T154013
CREATED:20240805T172227Z
LAST-MODIFIED:20240805T172227Z
UID:3137-1713427200-1713459600@diosachia.edu.co
SUMMARY:Jornada Pedagógica
DESCRIPTION:
URL:https://diosachia.edu.co/event/jornada-pedagogica/
LOCATION:Institución Educativa Diosa Chía\, Calle  29 Nro 10 - 49 Vereda  Bojacá. Chía - Cundinamarca.\, Chía\, Colombia
END:VEVENT
BEGIN:VEVENT
DTSTART;TZID=America/Bogota:20240423T073000
DTEND;TZID=America/Bogota:20240423T093000
DTSTAMP:20260421T154013
CREATED:20240805T160004Z
LAST-MODIFIED:20240805T160004Z
UID:3095-1713857400-1713864600@diosachia.edu.co
SUMMARY:DÍA DEL IDIOMA
DESCRIPTION:Valor: Compañerismo\, Comunicación.
URL:https://diosachia.edu.co/event/dia-del-idioma/
LOCATION:Institución Educativa Diosa Chía\, Calle  29 Nro 10 - 49 Vereda  Bojacá. Chía - Cundinamarca.\, Chía\, Colombia
CATEGORIES:Actividad Institucional
END:VEVENT
BEGIN:VEVENT
DTSTART;TZID=America/Bogota:20240426T063000
DTEND;TZID=America/Bogota:20240426T073000
DTSTAMP:20260421T154013
CREATED:20240805T191649Z
LAST-MODIFIED:20240805T191649Z
UID:3160-1714113000-1714116600@diosachia.edu.co
SUMMARY:Dirección de Curso
DESCRIPTION:Dirección de curso (60 minutos) 6:30 am. A 7:30 a.m.\nHorario con horas de 50 minutos.
URL:https://diosachia.edu.co/event/direccion-de-curso-4/
LOCATION:Institución Educativa Diosa Chía\, Calle  29 Nro 10 - 49 Vereda  Bojacá. Chía - Cundinamarca.\, Chía\, Colombia
END:VEVENT
BEGIN:VEVENT
DTSTART;TZID=America/Bogota:20240429T080000
DTEND;TZID=America/Bogota:20240503T170000
DTSTAMP:20260421T154013
CREATED:20240805T222822Z
LAST-MODIFIED:20240805T222822Z
UID:3173-1714377600-1714755600@diosachia.edu.co
SUMMARY:Evaluaciones y Planes de Mejoramiento Primer Periodo.
DESCRIPTION:
URL:https://diosachia.edu.co/event/evaluaciones-y-planes-de-mejoramiento-primer-periodo/
LOCATION:Institución Educativa Diosa Chía\, Calle  29 Nro 10 - 49 Vereda  Bojacá. Chía - Cundinamarca.\, Chía\, Colombia
END:VEVENT
BEGIN:VEVENT
DTSTART;TZID=America/Bogota:20240503T080000
DTEND;TZID=America/Bogota:20240503T093000
DTSTAMP:20260421T154013
CREATED:20240805T160708Z
LAST-MODIFIED:20240805T160708Z
UID:3102-1714723200-1714728600@diosachia.edu.co
SUMMARY:DÍA DEL TRABAJO
DESCRIPTION:Valor: Responsabilidad\, Empatía.
URL:https://diosachia.edu.co/event/dia-del-trabajo/
LOCATION:Institución Educativa Diosa Chía\, Calle  29 Nro 10 - 49 Vereda  Bojacá. Chía - Cundinamarca.\, Chía\, Colombia
CATEGORIES:Actividad Institucional
END:VEVENT
BEGIN:VEVENT
DTSTART;TZID=America/Bogota:20240506T123000
DTEND;TZID=America/Bogota:20240506T143000
DTSTAMP:20260421T154013
CREATED:20240806T143053Z
LAST-MODIFIED:20240806T143053Z
UID:3203-1714998600-1715005800@diosachia.edu.co
SUMMARY:Comité de Convivencia
DESCRIPTION:Primer Lunes de cada mes de 12:30 m a 2:30 pm.
URL:https://diosachia.edu.co/event/comite-de-convivencia/
LOCATION:Institución Educativa Diosa Chía\, Calle  29 Nro 10 - 49 Vereda  Bojacá. Chía - Cundinamarca.\, Chía\, Colombia
CATEGORIES:Comité
END:VEVENT
BEGIN:VEVENT
DTSTART;TZID=America/Bogota:20240507T080000
DTEND;TZID=America/Bogota:20240508T170000
DTSTAMP:20260421T154013
CREATED:20240806T132712Z
LAST-MODIFIED:20240806T132712Z
UID:3175-1715068800-1715187600@diosachia.edu.co
SUMMARY:Comité de evaluación y promoción.
DESCRIPTION:
URL:https://diosachia.edu.co/event/comite-de-evaluacion-y-promocion/
LOCATION:Institución Educativa Diosa Chía\, Calle  29 Nro 10 - 49 Vereda  Bojacá. Chía - Cundinamarca.\, Chía\, Colombia
CATEGORIES:Comité
END:VEVENT
BEGIN:VEVENT
DTSTART;TZID=America/Bogota:20240509T080000
DTEND;TZID=America/Bogota:20240510T170000
DTSTAMP:20260421T154013
CREATED:20240806T133151Z
LAST-MODIFIED:20240806T133151Z
UID:3178-1715241600-1715360400@diosachia.edu.co
SUMMARY:Ingreso de notas al sistema Periodo 1.
DESCRIPTION:Ingreso de notas al sistema y cierre de plataforma Syscolegios.
URL:https://diosachia.edu.co/event/ingreso-de-notas-al-sistema-periodo-1/
END:VEVENT
BEGIN:VEVENT
DTSTART;TZID=America/Bogota:20240510T080000
DTEND;TZID=America/Bogota:20240510T170000
DTSTAMP:20260421T154013
CREATED:20240806T133254Z
LAST-MODIFIED:20240806T133254Z
UID:3180-1715328000-1715360400@diosachia.edu.co
SUMMARY:Cierre plataforma Syscolegios
DESCRIPTION:
URL:https://diosachia.edu.co/event/cierre-plataforma-syscolegios/
END:VEVENT
BEGIN:VEVENT
DTSTART;TZID=America/Bogota:20240514T063000
DTEND;TZID=America/Bogota:20240514T160000
DTSTAMP:20260421T154013
CREATED:20240806T133953Z
LAST-MODIFIED:20240806T133953Z
UID:3183-1715668200-1715702400@diosachia.edu.co
SUMMARY:Generación de boletines Periodo 1
DESCRIPTION:
URL:https://diosachia.edu.co/event/generacion-de-boletines-periodo-1/
END:VEVENT
BEGIN:VEVENT
DTSTART;TZID=America/Bogota:20240515T080000
DTEND;TZID=America/Bogota:20240515T170000
DTSTAMP:20260421T154013
CREATED:20240806T141100Z
LAST-MODIFIED:20240806T141100Z
UID:3195-1715760000-1715792400@diosachia.edu.co
SUMMARY:Consejo Directivo
DESCRIPTION:
URL:https://diosachia.edu.co/event/consejo-directivo-4/
LOCATION:Institución Educativa Diosa Chía\, Calle  29 Nro 10 - 49 Vereda  Bojacá. Chía - Cundinamarca.\, Chía\, Colombia
END:VEVENT
BEGIN:VEVENT
DTSTART;TZID=America/Bogota:20240520T070000
DTEND;TZID=America/Bogota:20240520T090000
DTSTAMP:20260421T154013
CREATED:20240806T140043Z
LAST-MODIFIED:20240806T140043Z
UID:3187-1716188400-1716195600@diosachia.edu.co
SUMMARY:Consejo Académico
DESCRIPTION:Consejo Académico teniendo en cuenta horario extendido según Decreto 1850 de 2002.
URL:https://diosachia.edu.co/event/consejo-academico/
LOCATION:Institución Educativa Diosa Chía\, Calle  29 Nro 10 - 49 Vereda  Bojacá. Chía - Cundinamarca.\, Chía\, Colombia
END:VEVENT
BEGIN:VEVENT
DTSTART;TZID=America/Bogota:20240522T063000
DTEND;TZID=America/Bogota:20240522T163000
DTSTAMP:20260421T154013
CREATED:20240806T134159Z
LAST-MODIFIED:20240806T134159Z
UID:3185-1716359400-1716395400@diosachia.edu.co
SUMMARY:Asamblea de padres de familia entrega informes Primer Período
DESCRIPTION:
URL:https://diosachia.edu.co/event/asamblea-de-padres-de-familia-entrega-informes-primer-periodo/
LOCATION:Institución Educativa Diosa Chía\, Calle  29 Nro 10 - 49 Vereda  Bojacá. Chía - Cundinamarca.\, Chía\, Colombia
CATEGORIES:Reunión Padres Familia
END:VEVENT
BEGIN:VEVENT
DTSTART;TZID=America/Bogota:20240530T063000
DTEND;TZID=America/Bogota:20240530T073000
DTSTAMP:20260421T154013
CREATED:20240806T144054Z
LAST-MODIFIED:20240806T144249Z
UID:3213-1717050600-1717054200@diosachia.edu.co
SUMMARY:Dirección de Grupo
DESCRIPTION:Dirección de Grupo (60 minutos) 6:30 am. \nHorario con horas de 50 minutos
URL:https://diosachia.edu.co/event/direccion-de-grupo/
LOCATION:Institución Educativa Diosa Chía\, Calle  29 Nro 10 - 49 Vereda  Bojacá. Chía - Cundinamarca.\, Chía\, Colombia
END:VEVENT
BEGIN:VEVENT
DTSTART;TZID=America/Bogota:20240617T123000
DTEND;TZID=America/Bogota:20240617T143000
DTSTAMP:20260421T154013
CREATED:20240806T143430Z
LAST-MODIFIED:20240806T143430Z
UID:3205-1718627400-1718634600@diosachia.edu.co
SUMMARY:Comité de Convivencia
DESCRIPTION:Primer Lunes de cada mes de 12:30 m a 2:30 pm.
URL:https://diosachia.edu.co/event/comite-de-convivencia-7/
LOCATION:Institución Educativa Diosa Chía\, Calle  29 Nro 10 - 49 Vereda  Bojacá. Chía - Cundinamarca.\, Chía\, Colombia
CATEGORIES:Comité
END:VEVENT
BEGIN:VEVENT
DTSTART;TZID=America/Bogota:20240619T070000
DTEND;TZID=America/Bogota:20240619T143000
DTSTAMP:20260421T154013
CREATED:20240806T141238Z
LAST-MODIFIED:20240806T141507Z
UID:3197-1718780400-1718807400@diosachia.edu.co
SUMMARY:Consejo Directivo
DESCRIPTION:
URL:https://diosachia.edu.co/event/consejo-directivo-5/
LOCATION:Institución Educativa Diosa Chía\, Calle  29 Nro 10 - 49 Vereda  Bojacá. Chía - Cundinamarca.\, Chía\, Colombia
END:VEVENT
BEGIN:VEVENT
DTSTART;TZID=America/Bogota:20240624T070000
DTEND;TZID=America/Bogota:20240624T090000
DTSTAMP:20260421T154013
CREATED:20240806T140212Z
LAST-MODIFIED:20240806T140212Z
UID:3189-1719212400-1719219600@diosachia.edu.co
SUMMARY:Consejo Académico
DESCRIPTION:Consejo Académico teniendo en cuenta horario extendido según Decreto 1850 de 2002.
URL:https://diosachia.edu.co/event/consejo-academico-2/
LOCATION:Institución Educativa Diosa Chía\, Calle  29 Nro 10 - 49 Vereda  Bojacá. Chía - Cundinamarca.\, Chía\, Colombia
END:VEVENT
BEGIN:VEVENT
DTSTART;TZID=America/Bogota:20240625T063000
DTEND;TZID=America/Bogota:20240625T163000
DTSTAMP:20260421T154013
CREATED:20240806T145921Z
LAST-MODIFIED:20240806T145921Z
UID:3221-1719297000-1719333000@diosachia.edu.co
SUMMARY:Corte para analizar rendimiento académico Segundo Periodo
DESCRIPTION:
URL:https://diosachia.edu.co/event/corte-para-analizar-rendimiento-academico-segundo-periodo/
LOCATION:Institución Educativa Diosa Chía\, Calle  29 Nro 10 - 49 Vereda  Bojacá. Chía - Cundinamarca.\, Chía\, Colombia
END:VEVENT
END:VCALENDAR