BEGIN:VCALENDAR
VERSION:2.0
PRODID:-// - ECPv6.6.0.2//NONSGML v1.0//EN
CALSCALE:GREGORIAN
METHOD:PUBLISH
X-ORIGINAL-URL:https://diosachia.edu.co
X-WR-CALDESC:Eventos para 
REFRESH-INTERVAL;VALUE=DURATION:PT1H
X-Robots-Tag:noindex
X-PUBLISHED-TTL:PT1H
BEGIN:VTIMEZONE
TZID:America/Bogota
BEGIN:STANDARD
TZOFFSETFROM:-0500
TZOFFSETTO:-0500
TZNAME:-05
DTSTART:20240101T000000
END:STANDARD
END:VTIMEZONE
BEGIN:VEVENT
DTSTART;TZID=America/Bogota:20240923T063000
DTEND;TZID=America/Bogota:20240923T073000
DTSTAMP:20260421T100730
CREATED:20240806T172413Z
LAST-MODIFIED:20240806T172413Z
UID:3263-1727073000-1727076600@diosachia.edu.co
SUMMARY:Dirección de Grupo
DESCRIPTION:Dirección de Grupo (60 minutos) 6:30 am. Horario con horas de 50 minutos.
URL:https://diosachia.edu.co/event/direccion-de-grupo-3/
LOCATION:Institución Educativa Diosa Chía\, Calle  29 Nro 10 - 49 Vereda  Bojacá. Chía - Cundinamarca.\, Chía\, Colombia
END:VEVENT
BEGIN:VEVENT
DTSTART;VALUE=DATE:20240930
DTEND;VALUE=DATE:20241004
DTSTAMP:20260421T100730
CREATED:20240806T171432Z
LAST-MODIFIED:20240806T171432Z
UID:3257-1727654400-1727999999@diosachia.edu.co
SUMMARY:Corte para analizar rendimiento académico Tercer Periodo
DESCRIPTION:
URL:https://diosachia.edu.co/event/corte-para-analizar-rendimiento-academico-tercer-periodo/
LOCATION:Institución Educativa Diosa Chía\, Calle  29 Nro 10 - 49 Vereda  Bojacá. Chía - Cundinamarca.\, Chía\, Colombia
END:VEVENT
BEGIN:VEVENT
DTSTART;TZID=America/Bogota:20240930T123000
DTEND;TZID=America/Bogota:20240930T143000
DTSTAMP:20260421T100730
CREATED:20240806T163454Z
LAST-MODIFIED:20240806T163454Z
UID:3236-1727699400-1727706600@diosachia.edu.co
SUMMARY:Consejo Académico
DESCRIPTION:Consejo Académico teniendo en cuenta horario extendido según Decreto 1850 de 2002.
URL:https://diosachia.edu.co/event/consejo-academico-5/
LOCATION:Institución Educativa Diosa Chía\, Calle  29 Nro 10 - 49 Vereda  Bojacá. Chía - Cundinamarca.\, Chía\, Colombia
END:VEVENT
BEGIN:VEVENT
DTSTART;TZID=America/Bogota:20241002T083000
DTEND;TZID=America/Bogota:20241002T103000
DTSTAMP:20260421T100730
CREATED:20240806T170900Z
LAST-MODIFIED:20240806T170900Z
UID:3251-1727857800-1727865000@diosachia.edu.co
SUMMARY:Consejo Directivo
DESCRIPTION:
URL:https://diosachia.edu.co/event/consejo-directivo-9/
LOCATION:Institución Educativa Diosa Chía\, Calle  29 Nro 10 - 49 Vereda  Bojacá. Chía - Cundinamarca.\, Chía\, Colombia
END:VEVENT
BEGIN:VEVENT
DTSTART;TZID=America/Bogota:20241004T063000
DTEND;TZID=America/Bogota:20241004T073000
DTSTAMP:20260421T100730
CREATED:20240806T172706Z
LAST-MODIFIED:20240806T172706Z
UID:3265-1728023400-1728027000@diosachia.edu.co
SUMMARY:Dirección de Grupo
DESCRIPTION:Dirección de Grupo (60 minutos) 6:30 am. Horario con horas de 50 minutos.
URL:https://diosachia.edu.co/event/direccion-de-grupo-4/
LOCATION:Institución Educativa Diosa Chía\, Calle  29 Nro 10 - 49 Vereda  Bojacá. Chía - Cundinamarca.\, Chía\, Colombia
END:VEVENT
BEGIN:VEVENT
DTSTART;TZID=America/Bogota:20241021T123000
DTEND;TZID=America/Bogota:20241021T143000
DTSTAMP:20260421T100730
CREATED:20240806T170114Z
LAST-MODIFIED:20240806T170114Z
UID:3244-1729513800-1729521000@diosachia.edu.co
SUMMARY:Comité de Convivencia
DESCRIPTION:Comité de Convivencia teniendo en cuenta horario extendido según Decreto 1850 de 2002.
URL:https://diosachia.edu.co/event/comite-de-convivencia-5/
LOCATION:Institución Educativa Diosa Chía\, Calle  29 Nro 10 - 49 Vereda  Bojacá. Chía - Cundinamarca.\, Chía\, Colombia
CATEGORIES:Comité
END:VEVENT
BEGIN:VEVENT
DTSTART;TZID=America/Bogota:20241022T063000
DTEND;TZID=America/Bogota:20241022T073000
DTSTAMP:20260421T100730
CREATED:20240806T172952Z
LAST-MODIFIED:20240806T173426Z
UID:3267-1729578600-1729582200@diosachia.edu.co
SUMMARY:Dirección de Grupo
DESCRIPTION:Dirección de Grupo (60 minutos) 6:30 am. Horario con horas de 50 minutos
URL:https://diosachia.edu.co/event/direccion-de-grupo-5/
LOCATION:Institución Educativa Diosa Chía\, Calle  29 Nro 10 - 49 Vereda  Bojacá. Chía - Cundinamarca.\, Chía\, Colombia
END:VEVENT
BEGIN:VEVENT
DTSTART;TZID=America/Bogota:20241028T123000
DTEND;TZID=America/Bogota:20241028T143000
DTSTAMP:20260421T100730
CREATED:20240806T164028Z
LAST-MODIFIED:20240806T164028Z
UID:3238-1730118600-1730125800@diosachia.edu.co
SUMMARY:Consejo Académico
DESCRIPTION:Consejo Académico teniendo en cuenta horario extendido según Decreto 1850 de 2002.
URL:https://diosachia.edu.co/event/consejo-academico-6/
LOCATION:Institución Educativa Diosa Chía\, Calle  29 Nro 10 - 49 Vereda  Bojacá. Chía - Cundinamarca.\, Chía\, Colombia
END:VEVENT
BEGIN:VEVENT
DTSTART;VALUE=DATE:20241031
DTEND;VALUE=DATE:20241101
DTSTAMP:20260421T100730
CREATED:20240805T161414Z
LAST-MODIFIED:20240806T194703Z
UID:3109-1730332800-1730419199@diosachia.edu.co
SUMMARY:DIA ESTUDIANTE
DESCRIPTION:Valor: Reconocimiento
URL:https://diosachia.edu.co/event/dia-estudiante/
LOCATION:Institución Educativa Diosa Chía\, Calle  29 Nro 10 - 49 Vereda  Bojacá. Chía - Cundinamarca.\, Chía\, Colombia
CATEGORIES:Actividad Institucional
END:VEVENT
BEGIN:VEVENT
DTSTART;TZID=America/Bogota:20241101T080000
DTEND;TZID=America/Bogota:20241129T170000
DTSTAMP:20260421T100730
CREATED:20240806T191614Z
LAST-MODIFIED:20240806T191614Z
UID:3293-1730448000-1732899600@diosachia.edu.co
SUMMARY:Evaluación Institucional
DESCRIPTION:Evaluación Institucional\nEstadísticas\nEntrega de inventarios y libros reglamentarios\nEvaluación docentes 1278
URL:https://diosachia.edu.co/event/evaluacion-institucional/
LOCATION:Institución Educativa Diosa Chía\, Calle  29 Nro 10 - 49 Vereda  Bojacá. Chía - Cundinamarca.\, Chía\, Colombia
CATEGORIES:Actividad Institucional
END:VEVENT
BEGIN:VEVENT
DTSTART;TZID=America/Bogota:20241112T083000
DTEND;TZID=America/Bogota:20241113T103000
DTSTAMP:20260421T100730
CREATED:20240806T171811Z
LAST-MODIFIED:20240806T171840Z
UID:3259-1731400200-1731493800@diosachia.edu.co
SUMMARY:Comité de evaluación y promoción
DESCRIPTION:
URL:https://diosachia.edu.co/event/comite-de-evaluacion-y-promocion-3/
LOCATION:Institución Educativa Diosa Chía\, Calle  29 Nro 10 - 49 Vereda  Bojacá. Chía - Cundinamarca.\, Chía\, Colombia
CATEGORIES:Comité
END:VEVENT
BEGIN:VEVENT
DTSTART;TZID=America/Bogota:20241118T063000
DTEND;TZID=America/Bogota:20241120T170000
DTSTAMP:20260421T100730
CREATED:20240806T173849Z
LAST-MODIFIED:20240806T174152Z
UID:3271-1731911400-1732122000@diosachia.edu.co
SUMMARY:Planes de mejoramiento Final Año lectivo
DESCRIPTION:
URL:https://diosachia.edu.co/event/planes-de-mejoramiento-tercer-periodo/
LOCATION:Institución Educativa Diosa Chía\, Calle  29 Nro 10 - 49 Vereda  Bojacá. Chía - Cundinamarca.\, Chía\, Colombia
END:VEVENT
BEGIN:VEVENT
DTSTART;TZID=America/Bogota:20241118T123000
DTEND;TZID=America/Bogota:20241118T143000
DTSTAMP:20260421T100730
CREATED:20240806T164248Z
LAST-MODIFIED:20240806T164248Z
UID:3240-1731933000-1731940200@diosachia.edu.co
SUMMARY:Consejo Académico
DESCRIPTION:Consejo Académico teniendo en cuenta horario extendido según Decreto 1850 de 2002.
URL:https://diosachia.edu.co/event/consejo-academico-7/
LOCATION:Institución Educativa Diosa Chía\, Calle  29 Nro 10 - 49 Vereda  Bojacá. Chía - Cundinamarca.\, Chía\, Colombia
END:VEVENT
BEGIN:VEVENT
DTSTART;TZID=America/Bogota:20241119T080000
DTEND;TZID=America/Bogota:20241121T170000
DTSTAMP:20260421T100730
CREATED:20240806T174309Z
LAST-MODIFIED:20240806T174309Z
UID:3275-1732003200-1732208400@diosachia.edu.co
SUMMARY:Ingreso de notas al sistema Tercer periodo
DESCRIPTION:
URL:https://diosachia.edu.co/event/ingreso-de-notas-al-sistema-tercer-periodo/
LOCATION:Institución Educativa Diosa Chía\, Calle  29 Nro 10 - 49 Vereda  Bojacá. Chía - Cundinamarca.\, Chía\, Colombia
END:VEVENT
BEGIN:VEVENT
DTSTART;TZID=America/Bogota:20241121T083000
DTEND;TZID=America/Bogota:20241121T103000
DTSTAMP:20260421T100730
CREATED:20240806T171056Z
LAST-MODIFIED:20240806T171056Z
UID:3253-1732177800-1732185000@diosachia.edu.co
SUMMARY:Consejo Directivo
DESCRIPTION:
URL:https://diosachia.edu.co/event/consejo-directivo-10/
LOCATION:Institución Educativa Diosa Chía\, Calle  29 Nro 10 - 49 Vereda  Bojacá. Chía - Cundinamarca.\, Chía\, Colombia
END:VEVENT
BEGIN:VEVENT
DTSTART;TZID=America/Bogota:20241122T080000
DTEND;TZID=America/Bogota:20241122T170000
DTSTAMP:20260421T100730
CREATED:20240806T174553Z
LAST-MODIFIED:20240806T174553Z
UID:3277-1732262400-1732294800@diosachia.edu.co
SUMMARY:Ingreso de notas finales luego de planes de mejoramiento
DESCRIPTION:
URL:https://diosachia.edu.co/event/ingreso-de-notas-finales-luego-de-planes-de-mejoramiento/
LOCATION:Institución Educativa Diosa Chía\, Calle  29 Nro 10 - 49 Vereda  Bojacá. Chía - Cundinamarca.\, Chía\, Colombia
END:VEVENT
BEGIN:VEVENT
DTSTART;TZID=America/Bogota:20241125T063000
DTEND;TZID=America/Bogota:20241125T170000
DTSTAMP:20260421T100730
CREATED:20240806T174709Z
LAST-MODIFIED:20240806T174709Z
UID:3279-1732516200-1732554000@diosachia.edu.co
SUMMARY:Generación de boletines - Tercer Periodo
DESCRIPTION:
URL:https://diosachia.edu.co/event/generacion-de-boletines-tercer-periodo/
LOCATION:Institución Educativa Diosa Chía\, Calle  29 Nro 10 - 49 Vereda  Bojacá. Chía - Cundinamarca.\, Chía\, Colombia
END:VEVENT
BEGIN:VEVENT
DTSTART;TZID=America/Bogota:20241125T080000
DTEND;TZID=America/Bogota:20241126T170000
DTSTAMP:20260421T100730
CREATED:20240806T175600Z
LAST-MODIFIED:20240806T175600Z
UID:3283-1732521600-1732640400@diosachia.edu.co
SUMMARY:Matricula de estudiantes nuevos preescolar 2024
DESCRIPTION:
URL:https://diosachia.edu.co/event/matricula-de-estudiantes-nuevos-preescolar-2024/
LOCATION:Institución Educativa Diosa Chía\, Calle  29 Nro 10 - 49 Vereda  Bojacá. Chía - Cundinamarca.\, Chía\, Colombia
END:VEVENT
BEGIN:VEVENT
DTSTART;TZID=America/Bogota:20241125T123000
DTEND;TZID=America/Bogota:20241125T143000
DTSTAMP:20260421T100730
CREATED:20240806T170428Z
LAST-MODIFIED:20240806T170428Z
UID:3246-1732537800-1732545000@diosachia.edu.co
SUMMARY:Comité de Convivencia
DESCRIPTION:Comité de Convivencia teniendo en cuenta horario extendido según Decreto 1850 de 2002.
URL:https://diosachia.edu.co/event/comite-de-convivencia-6/
LOCATION:Institución Educativa Diosa Chía\, Calle  29 Nro 10 - 49 Vereda  Bojacá. Chía - Cundinamarca.\, Chía\, Colombia
CATEGORIES:Comité
END:VEVENT
BEGIN:VEVENT
DTSTART;TZID=America/Bogota:20241126T063000
DTEND;TZID=America/Bogota:20241126T073000
DTSTAMP:20260421T100730
CREATED:20240806T173636Z
LAST-MODIFIED:20240806T173636Z
UID:3269-1732602600-1732606200@diosachia.edu.co
SUMMARY:Dirección de Grupo
DESCRIPTION:
URL:https://diosachia.edu.co/event/direccion-de-grupo20/
LOCATION:Institución Educativa Diosa Chía\, Calle  29 Nro 10 - 49 Vereda  Bojacá. Chía - Cundinamarca.\, Chía\, Colombia
END:VEVENT
BEGIN:VEVENT
DTSTART;TZID=America/Bogota:20241128T070000
DTEND;TZID=America/Bogota:20241128T170000
DTSTAMP:20260421T100730
CREATED:20240806T190315Z
LAST-MODIFIED:20240806T190456Z
UID:3285-1732777200-1732813200@diosachia.edu.co
SUMMARY:Clausura de transición y matrículas para grado primero
DESCRIPTION:
URL:https://diosachia.edu.co/event/clausura-de-transicion-y-matriculas-para-grado-primero/
LOCATION:Institución Educativa Diosa Chía\, Calle  29 Nro 10 - 49 Vereda  Bojacá. Chía - Cundinamarca.\, Chía\, Colombia
CATEGORIES:Actividad Institucional
END:VEVENT
BEGIN:VEVENT
DTSTART;TZID=America/Bogota:20241128T080000
DTEND;TZID=America/Bogota:20241128T090000
DTSTAMP:20260421T100730
CREATED:20240805T161654Z
LAST-MODIFIED:20240805T161654Z
UID:3112-1732780800-1732784400@diosachia.edu.co
SUMMARY:ENTREGA DE SÍMBOLOS
DESCRIPTION:Valor: Agradecimiento. \nResponsables: Directores Curso Grados Décimo y Once.
URL:https://diosachia.edu.co/event/entrega-de-simbolos/
LOCATION:Institución Educativa Diosa Chía\, Calle  29 Nro 10 - 49 Vereda  Bojacá. Chía - Cundinamarca.\, Chía\, Colombia
CATEGORIES:Actividad Institucional
END:VEVENT
BEGIN:VEVENT
DTSTART;TZID=America/Bogota:20241128T090000
DTEND;TZID=America/Bogota:20241128T170000
DTSTAMP:20260421T100730
CREATED:20240806T175200Z
LAST-MODIFIED:20240806T175200Z
UID:3281-1732784400-1732813200@diosachia.edu.co
SUMMARY:Despedida de grado 11°
DESCRIPTION:
URL:https://diosachia.edu.co/event/despedida-de-grado-11/
LOCATION:Institución Educativa Diosa Chía\, Calle  29 Nro 10 - 49 Vereda  Bojacá. Chía - Cundinamarca.\, Chía\, Colombia
CATEGORIES:Actividad Institucional
END:VEVENT
BEGIN:VEVENT
DTSTART;TZID=America/Bogota:20241129T073000
DTEND;TZID=America/Bogota:20241129T163000
DTSTAMP:20260421T100730
CREATED:20240806T190837Z
LAST-MODIFIED:20240806T190837Z
UID:3287-1732865400-1732897800@diosachia.edu.co
SUMMARY:Clausura de grados Primero a Décimo.
DESCRIPTION:
URL:https://diosachia.edu.co/event/clausura-de-grados-primero-a-decimo/
LOCATION:Institución Educativa Diosa Chía\, Calle  29 Nro 10 - 49 Vereda  Bojacá. Chía - Cundinamarca.\, Chía\, Colombia
CATEGORIES:Actividad Institucional
END:VEVENT
BEGIN:VEVENT
DTSTART;TZID=America/Bogota:20241129T073000
DTEND;TZID=America/Bogota:20241129T163000
DTSTAMP:20260421T100730
CREATED:20240806T191037Z
LAST-MODIFIED:20240806T191037Z
UID:3289-1732865400-1732897800@diosachia.edu.co
SUMMARY:Graduación de Quinto y Noveno.
DESCRIPTION:
URL:https://diosachia.edu.co/event/graduacion-de-quinto-y-noveno/
LOCATION:Institución Educativa Diosa Chía\, Calle  29 Nro 10 - 49 Vereda  Bojacá. Chía - Cundinamarca.\, Chía\, Colombia
CATEGORIES:Actividad Institucional
END:VEVENT
BEGIN:VEVENT
DTSTART;TZID=America/Bogota:20241202T073000
DTEND;TZID=America/Bogota:20241202T160000
DTSTAMP:20260421T100730
CREATED:20240806T191327Z
LAST-MODIFIED:20240806T191327Z
UID:3291-1733124600-1733155200@diosachia.edu.co
SUMMARY:Matrículas de segundo a once
DESCRIPTION:
URL:https://diosachia.edu.co/event/matriculas-de-segundo-a-once/
LOCATION:Institución Educativa Diosa Chía\, Calle  29 Nro 10 - 49 Vereda  Bojacá. Chía - Cundinamarca.\, Chía\, Colombia
CATEGORIES:Actividad Institucional
END:VEVENT
BEGIN:VEVENT
DTSTART;TZID=America/Bogota:20241205T080000
DTEND;TZID=America/Bogota:20241205T170000
DTSTAMP:20260421T100730
CREATED:20240806T191907Z
LAST-MODIFIED:20240806T191907Z
UID:3295-1733385600-1733418000@diosachia.edu.co
SUMMARY:Grados de Bachilleres
DESCRIPTION:Graduacion Estudiantes Once \nSegún disponibilidad del auditorio Zea Mays
URL:https://diosachia.edu.co/event/grados-de-bachilleres/
LOCATION:Institución Educativa Diosa Chía\, Calle  29 Nro 10 - 49 Vereda  Bojacá. Chía - Cundinamarca.\, Chía\, Colombia
CATEGORIES:Actividad Institucional
END:VEVENT
BEGIN:VEVENT
DTSTART;TZID=America/Bogota:20241206T063000
DTEND;TZID=America/Bogota:20241206T170000
DTSTAMP:20260421T100730
CREATED:20240806T192015Z
LAST-MODIFIED:20240806T192015Z
UID:3297-1733466600-1733504400@diosachia.edu.co
SUMMARY:Actividades institucionales
DESCRIPTION:
URL:https://diosachia.edu.co/event/actividades-institucionales/
LOCATION:Institución Educativa Diosa Chía\, Calle  29 Nro 10 - 49 Vereda  Bojacá. Chía - Cundinamarca.\, Chía\, Colombia
CATEGORIES:Actividad Institucional
END:VEVENT
END:VCALENDAR